BEGIN:VCALENDAR
VERSION:2.0
PRODID:-//Fuente Álamo Activo - ECPv5.0.0//NONSGML v1.0//EN
CALSCALE:GREGORIAN
METHOD:PUBLISH
X-WR-CALNAME:Fuente Álamo Activo
X-ORIGINAL-URL:https://www.fuentealamoactivo.es
X-WR-CALDESC:Eventos para Fuente Álamo Activo
BEGIN:VTIMEZONE
TZID:Europe/Madrid
BEGIN:DAYLIGHT
TZOFFSETFROM:+0100
TZOFFSETTO:+0200
TZNAME:CEST
DTSTART:20200329T010000
END:DAYLIGHT
BEGIN:STANDARD
TZOFFSETFROM:+0200
TZOFFSETTO:+0100
TZNAME:CET
DTSTART:20201025T010000
END:STANDARD
END:VTIMEZONE
BEGIN:VEVENT
DTSTART;TZID=Europe/Madrid:20201117T160000
DTEND;TZID=Europe/Madrid:20201118T190000
DTSTAMP:20260425T002143
CREATED:20201112T084515Z
LAST-MODIFIED:20201112T084515Z
UID:6359-1605628800-1605726000@www.fuentealamoactivo.es
SUMMARY:Fundamentos de la negociación comercial
DESCRIPTION:A quien va dirigido: Dirigido a profesionales con impacto en la cuenta de resultados. Director Comercial. Gestor de punto de venta\, Comercial\, Jefe de Cuenta y puestos en contacto con clientes. \nContenido:\n– Situarse en el proceso de negociación comercial.\n– Negociar con eficiencia ante compradores profesionales.\n– Técnicas de negociación y cierre de la misma con metodología win-win.\n– Gestión de la relación como núcleo de éxito de la negociación.\n– Tener el control de la negociación comercial. \nObjetivos:\n– Comprender el proceso de la negociación.\n– Adaptar su estrategia de negociación en función del contexto.\n– Mejorar la preparación de la negociación.\n– Mantener la reunión de negociación empleando técnicas de éxito contrastado.\n– Desarrollar una mejor relación frente a su cliente para cerrar con éxito la negociación. \nNº de plazas: 30. \nModalidad: Formación presencial virtual. \nPrecio: 85€ por participante. (Bonificable por FUNDAE) \nInscripción: https://forms.gle/eKXNS1cc4K3iA1vQA \n
URL:https://www.fuentealamoactivo.es/evento/fundamentos-de-la-negociacion-comercial/
END:VEVENT
END:VCALENDAR