BEGIN:VCALENDAR
VERSION:2.0
PRODID:-//Fuente Álamo Activo - ECPv5.0.0//NONSGML v1.0//EN
CALSCALE:GREGORIAN
METHOD:PUBLISH
X-WR-CALNAME:Fuente Álamo Activo
X-ORIGINAL-URL:https://www.fuentealamoactivo.es
X-WR-CALDESC:Eventos para Fuente Álamo Activo
BEGIN:VTIMEZONE
TZID:Europe/Madrid
BEGIN:DAYLIGHT
TZOFFSETFROM:+0100
TZOFFSETTO:+0200
TZNAME:CEST
DTSTART:20200329T010000
END:DAYLIGHT
BEGIN:STANDARD
TZOFFSETFROM:+0200
TZOFFSETTO:+0100
TZNAME:CET
DTSTART:20201025T010000
END:STANDARD
END:VTIMEZONE
BEGIN:VEVENT
DTSTART;TZID=Europe/Madrid:20201201T160000
DTEND;TZID=Europe/Madrid:20201202T190000
DTSTAMP:20260425T034655
CREATED:20201118T085504Z
LAST-MODIFIED:20201118T085504Z
UID:6389-1606838400-1606935600@www.fuentealamoactivo.es
SUMMARY:Curso "Venta de alto rendimiento"
DESCRIPTION:Nº de horas: 6 horas. \nCalendario: \n\n\n\nDía\nHora de inicio\nHora de fin\n\n\n1-DIC\n16:00\n19:00\n\n\n2-DIC\n16:00\n19:00\n\n\n\nModalidad: Virtual\, mediante nuestra herramienta de formación en directo habilitada por FUNDAE y SEPE. \nA quien va dirigido: Dirigido a profesionales con impacto en la cuenta de resultados. Director Comercial. Gestor de punto de venta\, Comercial\, Jefe de Cuenta y puestos en contacto con el cierre de operaciones. \n Contenido: \n\nHerramientas TOP para vender.\nDiferencia entre los roles de la venta.\n¿Por qué a un mago siempre le dan la moneda cuando la pide?\nRuptura del patrón. Rompiendo filtros.\nCómo aumentar el valor percibido del producto / servicio sin coste.\n\nObjetivos: \n\nAprender las herramientas de venta eficaces y de aplicación sistemática con los que conseguir los objetivos comerciales.\nIncorporar el uso de guiones de venta eficaces en el día a día.\nGenerar en el cliente la idea de querer comprar cada producto o servicio que se oferte.\n\n Nº de plazas: 30. \nPrecio: 85€ por participante. (Bonificable por FUNDAE) \npincha para inscribirte https://forms.gle/YZmwiVRbfQym8c9D8 \n
URL:https://www.fuentealamoactivo.es/evento/curso-venta-de-alto-rendimiento/
END:VEVENT
END:VCALENDAR